BEGIN:VCALENDAR
VERSION:2.0
PRODID:-//frconline.org//NONSGML kigkonsult.se iCalcreator 2.30.10//
CALSCALE:GREGORIAN
METHOD:PUBLISH
UID:b54d68c0-8710-4ef1-917f-6c28bfe3af64
X-WR-CALDESC:12 weekly sessions to learn how to have more fun and less stre
 ss while parenting\, positive ways to gain cooperation and to discipline\,
  and build self-worth in your children.
X-WR-RELCALID:0722e4bdf92542e99e9119a809567019
X-WR-TIMEZONE:America/Los_Angeles
BEGIN:VTIMEZONE
TZID:America/Los_Angeles
BEGIN:STANDARD
TZNAME:PST
DTSTART:20181104T020000
TZOFFSETFROM:-0700
TZOFFSETTO:-0800
RDATE:20191103T020000
END:STANDARD
BEGIN:DAYLIGHT
TZNAME:PDT
DTSTART:20180311T020000
TZOFFSETFROM:-0800
TZOFFSETTO:-0700
RDATE:20190310T020000
RDATE:20200308T020000
END:DAYLIGHT
END:VTIMEZONE
BEGIN:VEVENT
UID:6c546af6-1088-4be4-a7e1-bd76e94d0531
DTSTAMP:20260424T232858Z
DESCRIPTION:12 weekly sessions to learn how to have more fun and less stres
 s while parenting\, positive ways to gain cooperation and to discipline\, 
 and build self-worth in your children.
DTSTART;TZID=America/Los_Angeles:20190311T173000
DTEND;TZID=America/Los_Angeles:20190311T193000
LOCATION:Deschutes Children's Foundation Eastside Campus
SUMMARY:Incredible Years
END:VEVENT
END:VCALENDAR
