BEGIN:VCALENDAR
VERSION:2.0
PRODID:-//frconline.org//NONSGML kigkonsult.se iCalcreator 2.30.10//
CALSCALE:GREGORIAN
METHOD:PUBLISH
UID:25095c4b-2471-4ec6-90d8-074312e47cbe
X-WR-CALDESC:Una sesión de dos horas\, cada semana por 6 semanas en la escu
 ela de su hijo.\nPaternidad activa para tener éxito en la escuela\nCómo co
 mprender y reencaminar el mal comportamiento\nCómo el desarrollo del cereb
 ro afecta el comportamiento y la toma de decisiones de los niños\nCooperac
 ión y Comunicación\nResponsabilidad y Disciplina\nDesarrollo del valor y l
 a estima propia\n\nEs necesario inscribirse.\nLlame: Maria Teresa a 541-40
 8-4388\n\n
X-WR-RELCALID:558d03b3ef0dd6819c49bb36849490d0
X-WR-TIMEZONE:America/Los_Angeles
BEGIN:VTIMEZONE
TZID:America/Los_Angeles
BEGIN:STANDARD
TZNAME:PST
DTSTART:20181104T020000
TZOFFSETFROM:-0700
TZOFFSETTO:-0800
RDATE:20191103T020000
END:STANDARD
BEGIN:DAYLIGHT
TZNAME:PDT
DTSTART:20180311T020000
TZOFFSETFROM:-0800
TZOFFSETTO:-0700
RDATE:20190310T020000
RDATE:20200308T020000
END:DAYLIGHT
END:VTIMEZONE
BEGIN:VEVENT
UID:53472dd0-9f8f-4e7a-a0e7-1a2289ae56a6
DTSTAMP:20260425T010821Z
DESCRIPTION:Una sesión de dos horas\, cada semana por 6 semanas en la escue
 la de su hijo.\nPaternidad activa para tener éxito en la escuela\nCómo com
 prender y reencaminar el mal comportamiento\nCómo el desarrollo del cerebr
 o afecta el comportamiento y la toma de decisiones de los niños\nCooperaci
 ón y Comunicación\nResponsabilidad y Disciplina\nDesarrollo del valor y la
  estima propia\n\nEs necesario inscribirse.\nLlame: Maria Teresa a 541-408
 -4388\n\n
DTSTART;TZID=America/Los_Angeles:20190225T173000
DTEND;TZID=America/Los_Angeles:20190225T193000
LOCATION:
SUMMARY:Paternidad Activa
END:VEVENT
END:VCALENDAR
