BEGIN:VCALENDAR
VERSION:2.0
PRODID:-//frconline.org//NONSGML kigkonsult.se iCalcreator 2.30.10//
CALSCALE:GREGORIAN
METHOD:PUBLISH
UID:1c1af015-89dc-4fe1-9b03-ee364817eefe
X-WR-CALDESC:10-weekly sessions for parents\, grandparents and care provide
 rs of children 0-8 years. Explore the latest parenting techniques\, find p
 ositive approaches to discipline and help your child prepare for school su
 ccess.
X-WR-RELCALID:4c6035840431b62045eec384afddfc99
X-WR-TIMEZONE:America/Los_Angeles
BEGIN:VTIMEZONE
TZID:America/Los_Angeles
BEGIN:STANDARD
TZNAME:PST
DTSTART:20181104T020000
TZOFFSETFROM:-0700
TZOFFSETTO:-0800
RDATE:20191103T020000
END:STANDARD
BEGIN:DAYLIGHT
TZNAME:PDT
DTSTART:20180311T020000
TZOFFSETFROM:-0800
TZOFFSETTO:-0700
RDATE:20190310T020000
RDATE:20200308T020000
END:DAYLIGHT
END:VTIMEZONE
BEGIN:VEVENT
UID:5fa33313-3dfc-44b4-89e8-fedc0313af2d
DTSTAMP:20260425T012737Z
DESCRIPTION:10-weekly sessions for parents\, grandparents and care provider
 s of children 0-8 years. Explore the latest parenting techniques\, find po
 sitive approaches to discipline and help your child prepare for school suc
 cess.
DTSTART;TZID=America/Los_Angeles:20190219T180000
DTEND;TZID=America/Los_Angeles:20190219T200000
LOCATION:Redmond
SUMMARY:Make Parenting A Pleasure
END:VEVENT
END:VCALENDAR
