BEGIN:VCALENDAR
VERSION:2.0
PRODID:-//frconline.org//NONSGML kigkonsult.se iCalcreator 2.30.10//
CALSCALE:GREGORIAN
METHOD:PUBLISH
UID:cbe24ac2-47d7-4366-b41f-a76c147e13df
X-WR-CALDESC:12 weekly sessions to learn how to have more fun and less stre
 ss while parenting\, positive ways to gain cooperation and to discipline\,
  and build self-worth in your children.
X-WR-RELCALID:5ce67f7b9ae2bc852251af7028073ed3
X-WR-TIMEZONE:America/Los_Angeles
BEGIN:VTIMEZONE
TZID:America/Los_Angeles
BEGIN:STANDARD
TZNAME:PST
DTSTART:20181104T020000
TZOFFSETFROM:-0700
TZOFFSETTO:-0800
RDATE:20191103T020000
END:STANDARD
BEGIN:DAYLIGHT
TZNAME:PDT
DTSTART:20180311T020000
TZOFFSETFROM:-0800
TZOFFSETTO:-0700
RDATE:20190310T020000
RDATE:20200308T020000
END:DAYLIGHT
END:VTIMEZONE
BEGIN:VEVENT
UID:134003a2-1ad9-41d8-a15b-20c679225f02
DTSTAMP:20260425T010754Z
DESCRIPTION:12 weekly sessions to learn how to have more fun and less stres
 s while parenting\, positive ways to gain cooperation and to discipline\, 
 and build self-worth in your children.
DTSTART;TZID=America/Los_Angeles:20190211T173000
DTEND;TZID=America/Los_Angeles:20190211T193000
LOCATION:Deschutes Children's Foundation Eastside Campus
SUMMARY:Incredible Years
END:VEVENT
END:VCALENDAR
