BEGIN:VCALENDAR
VERSION:2.0
PRODID:-//frconline.org//NONSGML kigkonsult.se iCalcreator 2.30.10//
CALSCALE:GREGORIAN
METHOD:PUBLISH
UID:fd5013c8-6886-4efb-bf36-cd28dda27294
X-WR-CALDESC:6 weekly sessions for parents of youth 10-17. Sessions focus o
 n what teens need to be successful\, gaining cooperation and effective com
 munication with our teens\, and instilling responsibility and discipline d
 uring the adolescent years.
X-WR-RELCALID:982522ef13a3abff744c5a653d98db5f
X-WR-TIMEZONE:America/Los_Angeles
BEGIN:VTIMEZONE
TZID:America/Los_Angeles
BEGIN:STANDARD
TZNAME:PST
DTSTART:20181104T020000
TZOFFSETFROM:-0700
TZOFFSETTO:-0800
RDATE:20191103T020000
END:STANDARD
BEGIN:DAYLIGHT
TZNAME:PDT
DTSTART:20180311T020000
TZOFFSETFROM:-0800
TZOFFSETTO:-0700
RDATE:20190310T020000
RDATE:20200308T020000
END:DAYLIGHT
END:VTIMEZONE
BEGIN:VEVENT
UID:05f88ce3-5a4d-45b4-9e4c-ef15c9d8c1cf
DTSTAMP:20260425T012212Z
DESCRIPTION:6 weekly sessions for parents of youth 10-17. Sessions focus on
  what teens need to be successful\, gaining cooperation and effective comm
 unication with our teens\, and instilling responsibility and discipline du
 ring the adolescent years.
DTSTART;TZID=America/Los_Angeles:20190207T180000
DTEND;TZID=America/Los_Angeles:20190207T200000
LOCATION:RPA Middle School
SUMMARY:Active Parenting of Teens
END:VEVENT
END:VCALENDAR
