BEGIN:VCALENDAR
VERSION:2.0
PRODID:-//frconline.org//NONSGML kigkonsult.se iCalcreator 2.30.10//
CALSCALE:GREGORIAN
METHOD:PUBLISH
UID:ad45f8f5-d103-4301-9dc0-8e02c42f0bd9
X-WR-CALDESC:Join us for a fun night of delicious desserts paired with loca
 l brew masters libations all supporting Family Resource Center.\nEvent Det
 ails\nDate: February 5 2019\nTime: 7-9 PM\nLocation: Worthy Brewing Compan
 y 495 NE Bellevue Drive Bend\, OR \nCost: Single Ticket $30\, Couple Ticke
 t $50 (a $10 savings)\nTo register please click here!\n\nThere will be raf
 fle prizes (tickets available for purchase at the event) and a grand prize
  drawing for anyone who completes their tasting passport!\n\nFunds raised 
 at this event will go to provide local Central Oregon families parenting e
 ducation programs that strengthen and support families.
X-WR-RELCALID:35c9502e566453791f4547bc7eb65811
X-WR-TIMEZONE:America/Los_Angeles
BEGIN:VTIMEZONE
TZID:America/Los_Angeles
BEGIN:STANDARD
TZNAME:PST
DTSTART:20181104T020000
TZOFFSETFROM:-0700
TZOFFSETTO:-0800
RDATE:20191103T020000
END:STANDARD
BEGIN:DAYLIGHT
TZNAME:PDT
DTSTART:20180311T020000
TZOFFSETFROM:-0800
TZOFFSETTO:-0700
RDATE:20190310T020000
RDATE:20200308T020000
END:DAYLIGHT
END:VTIMEZONE
BEGIN:VEVENT
UID:cf9cc1dd-05a6-40fe-add8-be61d47f8ad9
DTSTAMP:20260425T010530Z
DESCRIPTION:Join us for a fun night of delicious desserts paired with local
  brew masters libations all supporting Family Resource Center.\nEvent Deta
 ils\nDate: February 5 2019\nTime: 7-9 PM\nLocation: Worthy Brewing Company
  495 NE Bellevue Drive Bend\, OR \nCost: Single Ticket $30\, Couple Ticket
  $50 (a $10 savings)\nTo register please click here!\n\nThere will be raff
 le prizes (tickets available for purchase at the event) and a grand prize 
 drawing for anyone who completes their tasting passport!\n\nFunds raised a
 t this event will go to provide local Central Oregon families parenting ed
 ucation programs that strengthen and support families.
DTSTART;TZID=America/Los_Angeles:20190205T190000
DTEND;TZID=America/Los_Angeles:20190205T210000
LOCATION:Worthy Brewing 495 NE Bellevue Drive Bend Oregon
SUMMARY:Sweet Bites and Brews
END:VEVENT
END:VCALENDAR
