BEGIN:VCALENDAR
VERSION:2.0
PRODID:-//frconline.org//NONSGML kigkonsult.se iCalcreator 2.30.10//
CALSCALE:GREGORIAN
METHOD:PUBLISH
UID:26319380-d611-4212-8923-cc2e2b0fdca8
X-WR-CALDESC:10-weekly sessions for parents\, grandparents and care provide
 rs of children 0-8 years. Explore the latest parenting techniques\, find p
 ositive approaches to discipline and help your child prepare for school su
 ccess.
X-WR-RELCALID:7da0642da0757e9a88395cd50da30d4c
X-WR-TIMEZONE:America/Los_Angeles
BEGIN:VTIMEZONE
TZID:America/Los_Angeles
BEGIN:STANDARD
TZNAME:PST
DTSTART:20181104T020000
TZOFFSETFROM:-0700
TZOFFSETTO:-0800
RDATE:20191103T020000
END:STANDARD
BEGIN:DAYLIGHT
TZNAME:PDT
DTSTART:20180311T020000
TZOFFSETFROM:-0800
TZOFFSETTO:-0700
RDATE:20190310T020000
RDATE:20200308T020000
END:DAYLIGHT
END:VTIMEZONE
BEGIN:VEVENT
UID:15bcc7f4-0a2a-4410-878c-4176879d8219
DTSTAMP:20260425T024253Z
DESCRIPTION:10-weekly sessions for parents\, grandparents and care provider
 s of children 0-8 years. Explore the latest parenting techniques\, find po
 sitive approaches to discipline and help your child prepare for school suc
 cess.
DTSTART;TZID=America/Los_Angeles:20190129T180000
DTEND;TZID=America/Los_Angeles:20190129T200000
LOCATION:Redmond
SUMMARY:Make Parenting A Pleasure
END:VEVENT
END:VCALENDAR
