BEGIN:VCALENDAR
VERSION:2.0
PRODID:-//frconline.org//NONSGML kigkonsult.se iCalcreator 2.30.10//
CALSCALE:GREGORIAN
METHOD:PUBLISH
UID:ebcfd0fd-88ee-44ed-aa93-013f3b896252
X-WR-CALDESC:Sesión de 10-semanas para padres\, abuelos y proveedores de cu
 idado de niños entre edades de 0 a 8 años. Explore las técnicas más actual
 izadas en cuanto a la crianza de niños\, aprenda a poner límites\, a encon
 trar maneras positivas para disciplinar\, y a ayudarle a sus niños  a que 
 se preparen para tener éxito en la escuela.
X-WR-RELCALID:e7f48bbfa67b338069787555360ad125
X-WR-TIMEZONE:America/Los_Angeles
BEGIN:VTIMEZONE
TZID:America/Los_Angeles
BEGIN:STANDARD
TZNAME:PST
DTSTART:20181104T020000
TZOFFSETFROM:-0700
TZOFFSETTO:-0800
RDATE:20191103T020000
END:STANDARD
BEGIN:DAYLIGHT
TZNAME:PDT
DTSTART:20180311T020000
TZOFFSETFROM:-0800
TZOFFSETTO:-0700
RDATE:20190310T020000
RDATE:20200308T020000
END:DAYLIGHT
END:VTIMEZONE
BEGIN:VEVENT
UID:7f30ea01-dc87-4f63-b536-ecc7435b536c
DTSTAMP:20260425T024635Z
DESCRIPTION:Sesión de 10-semanas para padres\, abuelos y proveedores de cui
 dado de niños entre edades de 0 a 8 años. Explore las técnicas más actuali
 zadas en cuanto a la crianza de niños\, aprenda a poner límites\, a encont
 rar maneras positivas para disciplinar\, y a ayudarle a sus niños  a que s
 e preparen para tener éxito en la escuela.
DTSTART;TZID=America/Los_Angeles:20190115T180000
DTEND;TZID=America/Los_Angeles:20190115T200000
LOCATION:Redmond
SUMMARY:Que la Crianza de sus Hijos sea un placer
END:VEVENT
END:VCALENDAR
