BEGIN:VCALENDAR
VERSION:2.0
PRODID:-//frconline.org//NONSGML kigkonsult.se iCalcreator 2.30.10//
CALSCALE:GREGORIAN
METHOD:PUBLISH
UID:8be85a5c-bcbd-4324-9ecd-37331ddd791e
X-WR-CALDESC:For families and caregivers in Crook County referred to parent
 ing classes by other agencies.
X-WR-RELCALID:d4f4bab669c80212baea2022ec2aa55a
X-WR-TIMEZONE:America/Los_Angeles
BEGIN:VTIMEZONE
TZID:America/Los_Angeles
BEGIN:STANDARD
TZNAME:PST
DTSTART:20171105T020000
TZOFFSETFROM:-0700
TZOFFSETTO:-0800
RDATE:20181104T020000
RDATE:20191103T020000
END:STANDARD
BEGIN:DAYLIGHT
TZNAME:PDT
DTSTART:20180311T020000
TZOFFSETFROM:-0800
TZOFFSETTO:-0700
RDATE:20190310T020000
END:DAYLIGHT
END:VTIMEZONE
BEGIN:VEVENT
UID:8468f582-928d-4893-b2c1-b1381fb92f3b
DTSTAMP:20260425T155834Z
DESCRIPTION:For families and caregivers in Crook County referred to parenti
 ng classes by other agencies.
DTSTART;TZID=America/Los_Angeles:20180528T173000
DTEND;TZID=America/Los_Angeles:20180528T193000
LOCATION:Prineville
SUMMARY:Parenting Today
END:VEVENT
END:VCALENDAR
