BEGIN:VCALENDAR
VERSION:2.0
PRODID:-//frconline.org//NONSGML kigkonsult.se iCalcreator 2.30.10//
CALSCALE:GREGORIAN
METHOD:PUBLISH
UID:c8ba6080-e21b-4ed8-90c7-beb47d617624
X-WR-CALDESC:5 weekly sessions for parents of children 10-17 that focus on 
 strengthening family bonds\, improving family management skills\, decreasi
 ng family conflict\, and developing strategies for better communication an
 d limit setting.
X-WR-RELCALID:93d800b159ebda1b385c5dd8d725b30c
X-WR-TIMEZONE:America/Los_Angeles
BEGIN:VTIMEZONE
TZID:America/Los_Angeles
BEGIN:STANDARD
TZNAME:PST
DTSTART:20171105T020000
TZOFFSETFROM:-0700
TZOFFSETTO:-0800
RDATE:20181104T020000
END:STANDARD
BEGIN:DAYLIGHT
TZNAME:PDT
DTSTART:20180311T020000
TZOFFSETFROM:-0800
TZOFFSETTO:-0700
RDATE:20190310T020000
END:DAYLIGHT
END:VTIMEZONE
BEGIN:VEVENT
UID:3dd28f47-a6d5-4cd6-98c9-bb421e88c444
DTSTAMP:20260425T175225Z
DESCRIPTION:5 weekly sessions for parents of children 10-17 that focus on s
 trengthening family bonds\, improving family management skills\, decreasin
 g family conflict\, and developing strategies for better communication and
  limit setting.
DTSTART;TZID=America/Los_Angeles:20180411T180000
DTEND;TZID=America/Los_Angeles:20180411T200000
LOCATION:Family Resource Center
SUMMARY:Staying Connected to Your Teen
END:VEVENT
END:VCALENDAR
