BEGIN:VCALENDAR
VERSION:2.0
PRODID:-//frconline.org//NONSGML kigkonsult.se iCalcreator 2.30.10//
CALSCALE:GREGORIAN
METHOD:PUBLISH
UID:6d961d2c-8ddf-486f-8053-c98e41852add
X-WR-CALDESC:6-weekly sessions for parents of children 5-12 years. Learn ab
 out parenting styles & brain development\, explore cooperation and communi
 cation techniques and learn seven smart things parents can do to help chil
 dren succeed in school.
X-WR-RELCALID:ea3172b5669dc3e04ad1463263cf749a
X-WR-TIMEZONE:America/Los_Angeles
BEGIN:VTIMEZONE
TZID:America/Los_Angeles
BEGIN:STANDARD
TZNAME:PST
DTSTART:20171105T020000
TZOFFSETFROM:-0700
TZOFFSETTO:-0800
RDATE:20181104T020000
END:STANDARD
BEGIN:DAYLIGHT
TZNAME:PDT
DTSTART:20170312T020000
TZOFFSETFROM:-0800
TZOFFSETTO:-0700
RDATE:20180311T020000
RDATE:20190310T020000
END:DAYLIGHT
END:VTIMEZONE
BEGIN:VEVENT
UID:dcfa3e13-c0a1-44a8-99f1-57509ef6168b
DTSTAMP:20260425T192758Z
DESCRIPTION:6-weekly sessions for parents of children 5-12 years. Learn abo
 ut parenting styles & brain development\, explore cooperation and communic
 ation techniques and learn seven smart things parents can do to help child
 ren succeed in school.
DTSTART;TZID=America/Los_Angeles:20180306T180000
DTEND;TZID=America/Los_Angeles:20180306T200000
LOCATION:Active Parenting Now
SUMMARY:Active Parenting Now
END:VEVENT
END:VCALENDAR
