BEGIN:VCALENDAR
VERSION:2.0
PRODID:-//frconline.org//NONSGML kigkonsult.se iCalcreator 2.30.10//
CALSCALE:GREGORIAN
METHOD:PUBLISH
UID:79b44bc1-85a4-4904-9996-ba6b100b1c40
X-WR-CALDESC:Sesión de 10-semanas para padres\, abuelos y proveedores de cu
 idado de niños entre edades de 0 a 8 años. Explore las técnicas más actual
 izadas en cuanto a la crianza de niños\, aprenda a poner límites\, a encon
 trar maneras positivas para disciplinar\, y a ayudarle a sus niños  a que 
 se preparen para tener éxito en la escuela.
X-WR-RELCALID:b6914f313a47d67f0f2ebbe35c118c0b
X-WR-TIMEZONE:America/Los_Angeles
BEGIN:VTIMEZONE
TZID:America/Los_Angeles
BEGIN:STANDARD
TZNAME:PST
DTSTART:20171105T020000
TZOFFSETFROM:-0700
TZOFFSETTO:-0800
RDATE:20181104T020000
END:STANDARD
BEGIN:DAYLIGHT
TZNAME:PDT
DTSTART:20170312T020000
TZOFFSETFROM:-0800
TZOFFSETTO:-0700
RDATE:20180311T020000
RDATE:20190310T020000
END:DAYLIGHT
END:VTIMEZONE
BEGIN:VEVENT
UID:16ffe73e-94e4-42ac-96c3-7c8272ba4ca2
DTSTAMP:20260425T211545Z
DESCRIPTION:Sesión de 10-semanas para padres\, abuelos y proveedores de cui
 dado de niños entre edades de 0 a 8 años. Explore las técnicas más actuali
 zadas en cuanto a la crianza de niños\, aprenda a poner límites\, a encont
 rar maneras positivas para disciplinar\, y a ayudarle a sus niños  a que s
 e preparen para tener éxito en la escuela.
DTSTART;TZID=America/Los_Angeles:20180213T180000
DTEND;TZID=America/Los_Angeles:20180213T200000
LOCATION:Madras Oregon Child Development Coalition
SUMMARY:Que la Crianza de sus Hijos sea un placer
END:VEVENT
END:VCALENDAR
