BEGIN:VCALENDAR
VERSION:2.0
PRODID:-//frconline.org//NONSGML kigkonsult.se iCalcreator 2.30.10//
CALSCALE:GREGORIAN
METHOD:PUBLISH
UID:4e766817-1439-4cb9-bc16-6079eb70e6d0
X-WR-CALDESC:For families and caregivers in Crook County referred to parent
 ing classes by other agencies.
X-WR-RELCALID:6db7e7b223ca6dc2ea12714d08ab9fb8
X-WR-TIMEZONE:America/Los_Angeles
BEGIN:VTIMEZONE
TZID:America/Los_Angeles
BEGIN:STANDARD
TZNAME:PST
DTSTART:20171105T020000
TZOFFSETFROM:-0700
TZOFFSETTO:-0800
RDATE:20181104T020000
END:STANDARD
BEGIN:DAYLIGHT
TZNAME:PDT
DTSTART:20170312T020000
TZOFFSETFROM:-0800
TZOFFSETTO:-0700
RDATE:20180311T020000
RDATE:20190310T020000
END:DAYLIGHT
END:VTIMEZONE
BEGIN:VEVENT
UID:f02ac900-f9ad-49d4-9857-123c2af4b7dc
DTSTAMP:20260425T210838Z
DESCRIPTION:For families and caregivers in Crook County referred to parenti
 ng classes by other agencies.
DTSTART;TZID=America/Los_Angeles:20180212T173000
DTEND;TZID=America/Los_Angeles:20180212T193000
LOCATION:Prineville
SUMMARY:Parenting Today
END:VEVENT
END:VCALENDAR
