BEGIN:VCALENDAR
VERSION:2.0
PRODID:-//frconline.org//NONSGML kigkonsult.se iCalcreator 2.30.10//
CALSCALE:GREGORIAN
METHOD:PUBLISH
UID:7bdca169-49c6-44be-bbc0-d090851e3b8e
X-WR-CALDESC:Read the book\,  join our group and have a discussion with Fam
 ily Resource Center  on  Dan Siegel’s Brainstorm! Meet other parents and j
 oin the conversation about the science behind teen behavior and how parent
 s can make this time a positive period of growth\, and change.  \n
X-WR-RELCALID:8720edf0359ada12b64de09edf77680d
X-WR-TIMEZONE:America/Los_Angeles
BEGIN:VTIMEZONE
TZID:America/Los_Angeles
BEGIN:STANDARD
TZNAME:PST
DTSTART:20171105T020000
TZOFFSETFROM:-0700
TZOFFSETTO:-0800
RDATE:20181104T020000
END:STANDARD
BEGIN:DAYLIGHT
TZNAME:PDT
DTSTART:20170312T020000
TZOFFSETFROM:-0800
TZOFFSETTO:-0700
RDATE:20180311T020000
RDATE:20190310T020000
END:DAYLIGHT
END:VTIMEZONE
BEGIN:VEVENT
UID:94f5a426-e52e-4028-a9e9-56bed6370c1c
DTSTAMP:20260426T000451Z
DESCRIPTION:Read the book\,  join our group and have a discussion with Fami
 ly Resource Center  on  Dan Siegel’s Brainstorm! Meet other parents and jo
 in the conversation about the science behind teen behavior and how parents
  can make this time a positive period of growth\, and change.  \n
DTSTART;TZID=America/Los_Angeles:20171205T190000
DTEND;TZID=America/Los_Angeles:20171205T203000
LOCATION:Family Resource Center
SUMMARY:Brainstorm Discussion Group
END:VEVENT
END:VCALENDAR
