BEGIN:VCALENDAR
VERSION:2.0
PRODID:-//frconline.org//NONSGML kigkonsult.se iCalcreator 2.30.10//
CALSCALE:GREGORIAN
METHOD:PUBLISH
UID:b428e1b0-4330-4cb1-8ef5-3fd86ef5cb3b
X-WR-CALDESC:For families and caregivers in Crook County referred to parent
 ing classes by other agencies.
X-WR-RELCALID:513e11799253d4fd00e2d5e14cc7fddf
X-WR-TIMEZONE:America/Los_Angeles
BEGIN:VTIMEZONE
TZID:America/Los_Angeles
BEGIN:STANDARD
TZNAME:PST
DTSTART:20171105T020000
TZOFFSETFROM:-0700
TZOFFSETTO:-0800
RDATE:20181104T020000
END:STANDARD
BEGIN:DAYLIGHT
TZNAME:PDT
DTSTART:20170312T020000
TZOFFSETFROM:-0800
TZOFFSETTO:-0700
RDATE:20180311T020000
RDATE:20190310T020000
END:DAYLIGHT
END:VTIMEZONE
BEGIN:VEVENT
UID:5b2d48f1-2c7a-45e0-b942-967f633c0f77
DTSTAMP:20260426T000509Z
DESCRIPTION:For families and caregivers in Crook County referred to parenti
 ng classes by other agencies.
DTSTART;TZID=America/Los_Angeles:20171204T173000
DTEND;TZID=America/Los_Angeles:20171204T193000
LOCATION:Prineville
SUMMARY:Parenting Today
END:VEVENT
END:VCALENDAR
