BEGIN:VCALENDAR
VERSION:2.0
PRODID:-//frconline.org//NONSGML kigkonsult.se iCalcreator 2.30.10//
CALSCALE:GREGORIAN
METHOD:PUBLISH
UID:2cc0f1aa-26c7-4c26-9b19-8d7ebe4ff198
X-WR-CALDESC:5 weekly sessions for parents referred by another agency who h
 ave children 10-17 that focus on strengthening family bonds\, improving fa
 mily management skills\, decreasing family conflict\, and developing strat
 egies for better communication and limit setting.
X-WR-RELCALID:95d023a3be719b436a54b92417a8aff3
X-WR-TIMEZONE:America/Los_Angeles
BEGIN:VTIMEZONE
TZID:America/Los_Angeles
BEGIN:STANDARD
TZNAME:PST
DTSTART:20171105T020000
TZOFFSETFROM:-0700
TZOFFSETTO:-0800
RDATE:20181104T020000
END:STANDARD
BEGIN:DAYLIGHT
TZNAME:PDT
DTSTART:20170312T020000
TZOFFSETFROM:-0800
TZOFFSETTO:-0700
RDATE:20180311T020000
RDATE:20190310T020000
END:DAYLIGHT
END:VTIMEZONE
BEGIN:VEVENT
UID:27dbf47c-3fd1-4288-b3c1-c4cd05e0d2df
DTSTAMP:20260426T020001Z
DESCRIPTION:5 weekly sessions for parents referred by another agency who ha
 ve children 10-17 that focus on strengthening family bonds\, improving fam
 ily management skills\, decreasing family conflict\, and developing strate
 gies for better communication and limit setting.
DTSTART;TZID=America/Los_Angeles:20171122T180000
DTEND;TZID=America/Los_Angeles:20171122T200000
LOCATION:Family Resource Center
SUMMARY:Staying Connected to Your Teen
END:VEVENT
END:VCALENDAR
