BEGIN:VCALENDAR
VERSION:2.0
PRODID:-//frconline.org//NONSGML kigkonsult.se iCalcreator 2.30.10//
CALSCALE:GREGORIAN
METHOD:PUBLISH
UID:2858fb2d-de85-4a2d-8f7e-680ad6703d7c
X-WR-CALDESC:5 weekly sessions for parents referred by another agency who h
 ave children 10-17 that focus on strengthening family bonds\, improving fa
 mily management skills\, decreasing family conflict\, and developing strat
 egies for better communication and limit setting.
X-WR-RELCALID:8b9860e96b2f73138767f0ce078da0a9
X-WR-TIMEZONE:America/Los_Angeles
BEGIN:VTIMEZONE
TZID:America/Los_Angeles
BEGIN:STANDARD
TZNAME:PST
DTSTART:20171105T020000
TZOFFSETFROM:-0700
TZOFFSETTO:-0800
RDATE:20181104T020000
END:STANDARD
BEGIN:DAYLIGHT
TZNAME:PDT
DTSTART:20170312T020000
TZOFFSETFROM:-0800
TZOFFSETTO:-0700
RDATE:20180311T020000
RDATE:20190310T020000
END:DAYLIGHT
END:VTIMEZONE
BEGIN:VEVENT
UID:1931c92f-87be-46d0-b98e-b44b4218dda2
DTSTAMP:20260426T014810Z
DESCRIPTION:5 weekly sessions for parents referred by another agency who ha
 ve children 10-17 that focus on strengthening family bonds\, improving fam
 ily management skills\, decreasing family conflict\, and developing strate
 gies for better communication and limit setting.
DTSTART;TZID=America/Los_Angeles:20171108T180000
DTEND;TZID=America/Los_Angeles:20171108T200000
LOCATION:Family Resource Center
SUMMARY:Staying Connected to Your Teen
END:VEVENT
END:VCALENDAR
