BEGIN:VCALENDAR
VERSION:2.0
PRODID:-//frconline.org//NONSGML kigkonsult.se iCalcreator 2.30.10//
CALSCALE:GREGORIAN
METHOD:PUBLISH
UID:cad00b7e-f26e-4346-a428-40e931e0b8f2
X-WR-CALDESC:5 weekly sessions for parents referred by another agency who h
 ave children 10-17 that focus on strengthening family bonds\, improving fa
 mily management skills\, decreasing family conflict\, and developing strat
 egies for better communication and limit setting.
X-WR-RELCALID:af013aef1e637f00b59c3bf68acf495c
X-WR-TIMEZONE:America/Los_Angeles
BEGIN:VTIMEZONE
TZID:America/Los_Angeles
BEGIN:STANDARD
TZNAME:PST
DTSTART:20161106T020000
TZOFFSETFROM:-0700
TZOFFSETTO:-0800
RDATE:20171105T020000
RDATE:20181104T020000
END:STANDARD
BEGIN:DAYLIGHT
TZNAME:PDT
DTSTART:20170312T020000
TZOFFSETFROM:-0800
TZOFFSETTO:-0700
RDATE:20180311T020000
RDATE:20190310T020000
END:DAYLIGHT
END:VTIMEZONE
BEGIN:VEVENT
UID:33ee16c3-e43b-4a41-8bdf-fe9c42bde5d1
DTSTAMP:20260426T020032Z
DESCRIPTION:5 weekly sessions for parents referred by another agency who ha
 ve children 10-17 that focus on strengthening family bonds\, improving fam
 ily management skills\, decreasing family conflict\, and developing strate
 gies for better communication and limit setting.
DTSTART;TZID=America/Los_Angeles:20171101T180000
DTEND;TZID=America/Los_Angeles:20171101T200000
LOCATION:Family Resource Center
SUMMARY:Staying Connected to Your Teen
END:VEVENT
END:VCALENDAR
