BEGIN:VCALENDAR
VERSION:2.0
PRODID:-//frconline.org//NONSGML kigkonsult.se iCalcreator 2.30.10//
CALSCALE:GREGORIAN
METHOD:PUBLISH
UID:cdd7dab2-9300-425d-81d0-e23e5ef97094
X-WR-CALDESC:7-weekly sessions for parents\, grandparents and care provider
 s of children 0 to 6 years. Have fun learning new ways to handle challengi
 ng\nbehaviors & situations\, how to establish family routines\, problem so
 lving with young children and positive approaches to discipline and\ncommu
 nication.\n
X-WR-RELCALID:d264a4b18a1cf5e50daefb75c6de20f0
X-WR-TIMEZONE:America/Los_Angeles
BEGIN:VTIMEZONE
TZID:America/Los_Angeles
BEGIN:STANDARD
TZNAME:PST
DTSTART:20161106T020000
TZOFFSETFROM:-0700
TZOFFSETTO:-0800
RDATE:20171105T020000
RDATE:20181104T020000
END:STANDARD
BEGIN:DAYLIGHT
TZNAME:PDT
DTSTART:20170312T020000
TZOFFSETFROM:-0800
TZOFFSETTO:-0700
RDATE:20180311T020000
RDATE:20190310T020000
END:DAYLIGHT
END:VTIMEZONE
BEGIN:VEVENT
UID:60235868-2229-4401-a78f-e58664e9fdd9
DTSTAMP:20260426T031307Z
DESCRIPTION:7-weekly sessions for parents\, grandparents and care providers
  of children 0 to 6 years. Have fun learning new ways to handle challengin
 g\nbehaviors & situations\, how to establish family routines\, problem sol
 ving with young children and positive approaches to discipline and\ncommun
 ication.\n
DTSTART;TZID=America/Los_Angeles:20171026T173000
DTEND;TZID=America/Los_Angeles:20171026T193000
LOCATION:Alyce Hatch Center
SUMMARY:Parenting Now
END:VEVENT
END:VCALENDAR
