BEGIN:VCALENDAR
VERSION:2.0
PRODID:-//frconline.org//NONSGML kigkonsult.se iCalcreator 2.30.10//
CALSCALE:GREGORIAN
METHOD:PUBLISH
UID:d4415438-882c-49eb-b923-94faa0e19af4
X-WR-CALDESC:5 weekly sessions for parents referred by another agency who h
 ave children 10-17 that focus on strengthening family bonds\, improving fa
 mily management skills\, decreasing family conflict\, and developing strat
 egies for better communication and limit setting.
X-WR-RELCALID:ffa96800fe26e45540234ac25feadb97
X-WR-TIMEZONE:America/Los_Angeles
BEGIN:VTIMEZONE
TZID:America/Los_Angeles
BEGIN:STANDARD
TZNAME:PST
DTSTART:20161106T020000
TZOFFSETFROM:-0700
TZOFFSETTO:-0800
RDATE:20171105T020000
RDATE:20181104T020000
END:STANDARD
BEGIN:DAYLIGHT
TZNAME:PDT
DTSTART:20170312T020000
TZOFFSETFROM:-0800
TZOFFSETTO:-0700
RDATE:20180311T020000
RDATE:20190310T020000
END:DAYLIGHT
END:VTIMEZONE
BEGIN:VEVENT
UID:9c8df51c-0138-4288-a4be-294b938e88c3
DTSTAMP:20260426T031524Z
DESCRIPTION:5 weekly sessions for parents referred by another agency who ha
 ve children 10-17 that focus on strengthening family bonds\, improving fam
 ily management skills\, decreasing family conflict\, and developing strate
 gies for better communication and limit setting.
DTSTART;TZID=America/Los_Angeles:20171025T180000
DTEND;TZID=America/Los_Angeles:20171025T200000
LOCATION:Family Resource Center
SUMMARY:Staying Connected to Your Teen
END:VEVENT
END:VCALENDAR
