BEGIN:VCALENDAR
VERSION:2.0
PRODID:-//frconline.org//NONSGML kigkonsult.se iCalcreator 2.30.10//
CALSCALE:GREGORIAN
METHOD:PUBLISH
UID:e117d689-0354-42f5-8be9-ccb71ecb363c
X-WR-CALDESC:Families may qualify for 50 diapers per child per month. You c
 an pick up the diapers on either the second or the fourth Tuesday of each 
 month. Call with any questions and to find out if your size is available.
X-WR-RELCALID:e07487c3cc40b3e10e53814911c89165
X-WR-TIMEZONE:America/Los_Angeles
BEGIN:VTIMEZONE
TZID:America/Los_Angeles
BEGIN:STANDARD
TZNAME:PST
DTSTART:20301103T020000
TZOFFSETFROM:-0700
TZOFFSETTO:-0800
RDATE:20311102T020000
END:STANDARD
BEGIN:DAYLIGHT
TZNAME:PDT
DTSTART:20300310T020000
TZOFFSETFROM:-0800
TZOFFSETTO:-0700
RDATE:20310309T020000
RDATE:20320314T020000
END:DAYLIGHT
END:VTIMEZONE
BEGIN:VEVENT
UID:e0fdba23-0d69-4d41-9394-6bb5acdaf4e1
DTSTAMP:20260422T222841Z
DESCRIPTION:Families may qualify for 50 diapers per child per month. You ca
 n pick up the diapers on either the second or the fourth Tuesday of each m
 onth. Call with any questions and to find out if your size is available.
DTSTART;TZID=America/Los_Angeles:20301224T090000
DTEND;TZID=America/Los_Angeles:20301224T150000
LOCATION:Bend and Madras Offices
SUMMARY:Diaper Pantry
END:VEVENT
END:VCALENDAR
