BEGIN:VCALENDAR
VERSION:2.0
PRODID:-//frconline.org//NONSGML kigkonsult.se iCalcreator 2.30.10//
CALSCALE:GREGORIAN
METHOD:PUBLISH
UID:9dda9cbe-0967-4651-ab58-dd25377fc5f1
X-WR-CALDESC:Families may qualify for 50 diapers per child per month. You c
 an pick up the diapers on either the second or the fourth Tuesday of each 
 month. Call with any questions and to find out if your size is available.
X-WR-RELCALID:aaf43b3796ba031403ad38e4abd88648
X-WR-TIMEZONE:America/Los_Angeles
BEGIN:VTIMEZONE
TZID:America/Los_Angeles
BEGIN:STANDARD
TZNAME:PST
DTSTART:20291104T020000
TZOFFSETFROM:-0700
TZOFFSETTO:-0800
RDATE:20301103T020000
RDATE:20311102T020000
END:STANDARD
BEGIN:DAYLIGHT
TZNAME:PDT
DTSTART:20300310T020000
TZOFFSETFROM:-0800
TZOFFSETTO:-0700
RDATE:20310309T020000
END:DAYLIGHT
END:VTIMEZONE
BEGIN:VEVENT
UID:ee72b818-1d55-44ec-a521-188167ec2f2e
DTSTAMP:20260422T122648Z
DESCRIPTION:Families may qualify for 50 diapers per child per month. You ca
 n pick up the diapers on either the second or the fourth Tuesday of each m
 onth. Call with any questions and to find out if your size is available.
DTSTART;TZID=America/Los_Angeles:20300528T090000
DTEND;TZID=America/Los_Angeles:20300528T150000
LOCATION:Bend and Madras Offices
SUMMARY:Diaper Pantry
END:VEVENT
END:VCALENDAR
