BEGIN:VCALENDAR
VERSION:2.0
PRODID:-//frconline.org//NONSGML kigkonsult.se iCalcreator 2.30.10//
CALSCALE:GREGORIAN
METHOD:PUBLISH
UID:4905a732-19f3-4383-b288-8ea7b54d4d7c
X-WR-CALDESC:Families may qualify for 50 diapers per child per month. You c
 an pick up the diapers on either the second or the fourth Tuesday of each 
 month. Call with any questions and to find out if your size is available.
X-WR-RELCALID:cf48fa2e3c790a15c92c37e9a04cf8ca
X-WR-TIMEZONE:America/Los_Angeles
BEGIN:VTIMEZONE
TZID:America/Los_Angeles
BEGIN:STANDARD
TZNAME:PST
DTSTART:20291104T020000
TZOFFSETFROM:-0700
TZOFFSETTO:-0800
RDATE:20301103T020000
END:STANDARD
BEGIN:DAYLIGHT
TZNAME:PDT
DTSTART:20290311T020000
TZOFFSETFROM:-0800
TZOFFSETTO:-0700
RDATE:20300310T020000
RDATE:20310309T020000
END:DAYLIGHT
END:VTIMEZONE
BEGIN:VEVENT
UID:a7678348-8137-4c14-ba37-d3d58b674f9e
DTSTAMP:20260422T024151Z
DESCRIPTION:Families may qualify for 50 diapers per child per month. You ca
 n pick up the diapers on either the second or the fourth Tuesday of each m
 onth. Call with any questions and to find out if your size is available.
DTSTART;TZID=America/Los_Angeles:20291113T090000
DTEND;TZID=America/Los_Angeles:20291113T150000
LOCATION:Bend and Madras Offices
SUMMARY:Diaper Pantry
END:VEVENT
END:VCALENDAR
