BEGIN:VCALENDAR
VERSION:2.0
PRODID:-//frconline.org//NONSGML kigkonsult.se iCalcreator 2.30.10//
CALSCALE:GREGORIAN
METHOD:PUBLISH
UID:fd162782-c725-49fd-a509-b51e4335ae3c
X-WR-CALDESC:Families may qualify for 50 diapers per child per month. You c
 an pick up the diapers on either the second or the fourth Tuesday of each 
 month. Call with any questions and to find out if your size is available.
X-WR-RELCALID:3cf6686a04a19680d038d4c4e2c92f4f
X-WR-TIMEZONE:America/Los_Angeles
BEGIN:VTIMEZONE
TZID:America/Los_Angeles
BEGIN:STANDARD
TZNAME:PST
DTSTART:20271107T020000
TZOFFSETFROM:-0700
TZOFFSETTO:-0800
RDATE:20281105T020000
RDATE:20291104T020000
END:STANDARD
BEGIN:DAYLIGHT
TZNAME:PDT
DTSTART:20280312T020000
TZOFFSETFROM:-0800
TZOFFSETTO:-0700
RDATE:20290311T020000
END:DAYLIGHT
END:VTIMEZONE
BEGIN:VEVENT
UID:77b8e690-f932-4d09-aabb-44185e4b936b
DTSTAMP:20260420T202708Z
DESCRIPTION:Families may qualify for 50 diapers per child per month. You ca
 n pick up the diapers on either the second or the fourth Tuesday of each m
 onth. Call with any questions and to find out if your size is available.
DTSTART;TZID=America/Los_Angeles:20280523T090000
DTEND;TZID=America/Los_Angeles:20280523T150000
LOCATION:Bend and Madras Offices
SUMMARY:Diaper Pantry
END:VEVENT
END:VCALENDAR
