BEGIN:VCALENDAR
VERSION:2.0
PRODID:-//frconline.org//NONSGML kigkonsult.se iCalcreator 2.30.10//
CALSCALE:GREGORIAN
METHOD:PUBLISH
UID:567bc680-6ce3-4ac9-90b6-9101cd95692d
X-WR-CALDESC:Families may qualify for 50 diapers per child per month. You c
 an pick up the diapers on either the second or the fourth Tuesday of each 
 month. Call with any questions and to find out if your size is available.
X-WR-RELCALID:00ecbbffa4f838a0a592dbfed8dfa1f7
X-WR-TIMEZONE:America/Los_Angeles
BEGIN:VTIMEZONE
TZID:America/Los_Angeles
BEGIN:STANDARD
TZNAME:PST
DTSTART:20261101T020000
TZOFFSETFROM:-0700
TZOFFSETTO:-0800
RDATE:20271107T020000
RDATE:20281105T020000
END:STANDARD
BEGIN:DAYLIGHT
TZNAME:PDT
DTSTART:20270314T020000
TZOFFSETFROM:-0800
TZOFFSETTO:-0700
RDATE:20280312T020000
END:DAYLIGHT
END:VTIMEZONE
BEGIN:VEVENT
UID:3f5abf21-4e91-44bd-aa7f-18a9c9dc5ee1
DTSTAMP:20260420T010236Z
DESCRIPTION:Families may qualify for 50 diapers per child per month. You ca
 n pick up the diapers on either the second or the fourth Tuesday of each m
 onth. Call with any questions and to find out if your size is available.
DTSTART;TZID=America/Los_Angeles:20270824T090000
DTEND;TZID=America/Los_Angeles:20270824T150000
LOCATION:Bend and Madras Offices
SUMMARY:Diaper Pantry
END:VEVENT
END:VCALENDAR
