BEGIN:VCALENDAR
VERSION:2.0
PRODID:-//frconline.org//NONSGML kigkonsult.se iCalcreator 2.30.10//
CALSCALE:GREGORIAN
METHOD:PUBLISH
UID:5e5b133d-998a-4e53-8030-d1659e28c551
X-WR-CALDESC:Please join our safe space to share and support each other\, f
 ind connection\, and share experiences.\n\nThis support group is open to a
 ny caregiver or parent to a neurodivergent child(ren) 0-18. \n\n
X-WR-RELCALID:759891298ff27b41cfc0c040dc89320d
X-WR-TIMEZONE:America/Los_Angeles
BEGIN:VTIMEZONE
TZID:America/Los_Angeles
BEGIN:STANDARD
TZNAME:PST
DTSTART:20241103T020000
TZOFFSETFROM:-0700
TZOFFSETTO:-0800
RDATE:20251102T020000
RDATE:20261101T020000
END:STANDARD
BEGIN:DAYLIGHT
TZNAME:PDT
DTSTART:20250309T020000
TZOFFSETFROM:-0800
TZOFFSETTO:-0700
RDATE:20260308T020000
RDATE:20270314T020000
END:DAYLIGHT
END:VTIMEZONE
BEGIN:VEVENT
UID:83b03b55-500a-4ed0-9774-c2e9301c9ce5
DTSTAMP:20260419T134214Z
DESCRIPTION:Please join our safe space to share and support each other\, fi
 nd connection\, and share experiences.\n\nThis support group is open to an
 y caregiver or parent to a neurodivergent child(ren) 0-18. \n\n
DTSTART;TZID=America/Los_Angeles:20251014T173000
DTEND;TZID=America/Los_Angeles:20251014T190000
LOCATION:Family Resource Center\, 2500 NE Twin Knolls Dr\, Bend \, OR 97701
  US
SUMMARY:Parent2Parent
END:VEVENT
END:VCALENDAR
