BEGIN:VCALENDAR
VERSION:2.0
PRODID:-//frconline.org//NONSGML kigkonsult.se iCalcreator 2.30.10//
CALSCALE:GREGORIAN
METHOD:PUBLISH
UID:82ea6c6d-3077-4b48-a1f8-e3ededd22c7b
X-WR-CALDESC:A SUPPORT group not a class!\nA group of 7-12 foster/kinship p
 arents and two trained group leaders\n16 weekly 90-minute sessions\nA time
  to connect with other foster parents and kinship families\nYou will recei
 ve a $25 check for each remote session attended per household\nYou can ear
 n up to 24 foster parent training hours toward DHS certification\nAll DHS-
 certified foster parents and kinship families can join!
X-WR-RELCALID:4db5d7c382791aedcc79c3657b349202
X-WR-TIMEZONE:America/Los_Angeles
BEGIN:VTIMEZONE
TZID:America/Los_Angeles
BEGIN:STANDARD
TZNAME:PST
DTSTART:20241103T020000
TZOFFSETFROM:-0700
TZOFFSETTO:-0800
RDATE:20251102T020000
RDATE:20261101T020000
END:STANDARD
BEGIN:DAYLIGHT
TZNAME:PDT
DTSTART:20250309T020000
TZOFFSETFROM:-0800
TZOFFSETTO:-0700
RDATE:20260308T020000
END:DAYLIGHT
END:VTIMEZONE
BEGIN:VEVENT
UID:8af3c2a7-5aec-4004-b4ae-6493c1998c0b
DTSTAMP:20260419T135955Z
DESCRIPTION:A SUPPORT group not a class!\nA group of 7-12 foster/kinship pa
 rents and two trained group leaders\n16 weekly 90-minute sessions\nA time 
 to connect with other foster parents and kinship families\nYou will receiv
 e a $25 check for each remote session attended per household\nYou can earn
  up to 24 foster parent training hours toward DHS certification\nAll DHS-c
 ertified foster parents and kinship families can join!
DTSTART;TZID=America/Los_Angeles:20250724T180000
DTEND;TZID=America/Los_Angeles:20250724T193000
LOCATION:Class held on Zoom
SUMMARY:Keep Safe
END:VEVENT
END:VCALENDAR
