BEGIN:VCALENDAR
VERSION:2.0
PRODID:-//frconline.org//NONSGML kigkonsult.se iCalcreator 2.30.10//
CALSCALE:GREGORIAN
METHOD:PUBLISH
UID:46da15ee-3979-468e-a483-b7b7bfa386eb
X-WR-CALDESC:Learn how to help your child feel safe\, regulate their emotio
 ns\, and build their self-esteem.
X-WR-RELCALID:8acc2d284b837f77d65a49989516034b
X-WR-TIMEZONE:America/Los_Angeles
BEGIN:VTIMEZONE
TZID:America/Los_Angeles
BEGIN:STANDARD
TZNAME:PST
DTSTART:20241103T020000
TZOFFSETFROM:-0700
TZOFFSETTO:-0800
RDATE:20251102T020000
RDATE:20261101T020000
END:STANDARD
BEGIN:DAYLIGHT
TZNAME:PDT
DTSTART:20250309T020000
TZOFFSETFROM:-0800
TZOFFSETTO:-0700
RDATE:20260308T020000
END:DAYLIGHT
END:VTIMEZONE
BEGIN:VEVENT
UID:3bd18d2b-e80a-4ae0-9611-389082b86d85
DTSTAMP:20260419T135321Z
DESCRIPTION:Learn how to help your child feel safe\, regulate their emotion
 s\, and build their self-esteem.
DTSTART;TZID=America/Los_Angeles:20250709T120000
DTEND;TZID=America/Los_Angeles:20250709T133000
LOCATION:2500 NE Twin Knolls Dr\, Bend\, OR 97701 US
SUMMARY:Circle of Security
END:VEVENT
END:VCALENDAR
