BEGIN:VCALENDAR
VERSION:2.0
PRODID:-//frconline.org//NONSGML kigkonsult.se iCalcreator 2.30.10//
CALSCALE:GREGORIAN
METHOD:PUBLISH
UID:900a153d-87ff-4d3f-a291-c8d8e73e8e99
X-WR-CALDESC:Increase cooperation\nResist negative peer pressure\nHelp chil
 dren thrive
X-WR-RELCALID:e58486f5d6ad8d5fd0cebcf779ddeb4d
X-WR-TIMEZONE:America/Los_Angeles
BEGIN:VTIMEZONE
TZID:America/Los_Angeles
BEGIN:STANDARD
TZNAME:PST
DTSTART:20241103T020000
TZOFFSETFROM:-0700
TZOFFSETTO:-0800
RDATE:20251102T020000
RDATE:20261101T020000
END:STANDARD
BEGIN:DAYLIGHT
TZNAME:PDT
DTSTART:20250309T020000
TZOFFSETFROM:-0800
TZOFFSETTO:-0700
RDATE:20260308T020000
END:DAYLIGHT
END:VTIMEZONE
BEGIN:VEVENT
UID:c97b70e9-51a4-4f84-909b-315e0a130369
DTSTAMP:20260419T154658Z
DESCRIPTION:Increase cooperation\nResist negative peer pressure\nHelp child
 ren thrive
DTSTART;TZID=America/Los_Angeles:20250602T180000
DTEND;TZID=America/Los_Angeles:20250602T200000
LOCATION:Held on Zoom
SUMMARY:Active Parenting
END:VEVENT
END:VCALENDAR
