BEGIN:VCALENDAR
VERSION:2.0
PRODID:-//frconline.org//NONSGML kigkonsult.se iCalcreator 2.30.10//
CALSCALE:GREGORIAN
METHOD:PUBLISH
UID:236a4492-1124-4c92-b70f-f871667702b3
X-WR-CALDESC:Join a community of parents to:\n\n· Discover ways to manage s
 tress.\n\n· Learn about child development.\n\n· Build your toolkit for pos
 itive discipline.
X-WR-RELCALID:6f4a2e6a0f0af236b9e1781c859efab4
X-WR-TIMEZONE:America/Los_Angeles
BEGIN:VTIMEZONE
TZID:America/Los_Angeles
BEGIN:STANDARD
TZNAME:PST
DTSTART:20241103T020000
TZOFFSETFROM:-0700
TZOFFSETTO:-0800
RDATE:20251102T020000
RDATE:20261101T020000
END:STANDARD
BEGIN:DAYLIGHT
TZNAME:PDT
DTSTART:20250309T020000
TZOFFSETFROM:-0800
TZOFFSETTO:-0700
RDATE:20260308T020000
END:DAYLIGHT
END:VTIMEZONE
BEGIN:VEVENT
UID:8cd9c3dc-ac83-4755-8297-7fd398b96d95
DTSTAMP:20260419T170653Z
DESCRIPTION:Join a community of parents to:\n\n· Discover ways to manage st
 ress.\n\n· Learn about child development.\n\n· Build your toolkit for posi
 tive discipline.
DTSTART;TZID=America/Los_Angeles:20250528T173000
DTEND;TZID=America/Los_Angeles:20250528T193000
LOCATION:2500 NE Twin Knolls Dr.\, Suite 130\, Bend\, OR 97701 US
SUMMARY:Make Parenting A Pleasure
END:VEVENT
END:VCALENDAR
