BEGIN:VCALENDAR
VERSION:2.0
PRODID:-//frconline.org//NONSGML kigkonsult.se iCalcreator 2.30.10//
CALSCALE:GREGORIAN
METHOD:PUBLISH
UID:005fce28-114e-4ecf-8a48-79895547c6f0
X-WR-CALDESC:Join a community of parents to:\n\n· Discover ways to manage s
 tress.\n\n· Learn about child development.\n\n· Build your toolkit for pos
 itive discipline.
X-WR-RELCALID:8595b4d931d766855a35ac3877a50372
X-WR-TIMEZONE:America/Los_Angeles
BEGIN:VTIMEZONE
TZID:America/Los_Angeles
BEGIN:STANDARD
TZNAME:PST
DTSTART:20241103T020000
TZOFFSETFROM:-0700
TZOFFSETTO:-0800
RDATE:20251102T020000
RDATE:20261101T020000
END:STANDARD
BEGIN:DAYLIGHT
TZNAME:PDT
DTSTART:20250309T020000
TZOFFSETFROM:-0800
TZOFFSETTO:-0700
RDATE:20260308T020000
END:DAYLIGHT
END:VTIMEZONE
BEGIN:VEVENT
UID:cd43e524-41ac-47fe-be27-73b8056821d5
DTSTAMP:20260419T170807Z
DESCRIPTION:Join a community of parents to:\n\n· Discover ways to manage st
 ress.\n\n· Learn about child development.\n\n· Build your toolkit for posi
 tive discipline.
DTSTART;TZID=America/Los_Angeles:20250514T173000
DTEND;TZID=America/Los_Angeles:20250514T193000
LOCATION:2500 NE Twin Knolls Dr.\, Suite 130\, Bend\, OR 97701 US
SUMMARY:Make Parenting A Pleasure
END:VEVENT
END:VCALENDAR
