BEGIN:VCALENDAR
VERSION:2.0
PRODID:-//frconline.org//NONSGML kigkonsult.se iCalcreator 2.30.10//
CALSCALE:GREGORIAN
METHOD:PUBLISH
UID:e96b6362-ae1d-46cb-8b88-a3f66aef8f1a
X-WR-CALDESC:KEEP support groups provide a welcome place to share experienc
 es\, get tips and strategies\, and most importantly the support that is cr
 itical in this frequently stressful role.
X-WR-RELCALID:e3a1b6dca12c190fad6d59390a7e8f41
X-WR-TIMEZONE:America/Los_Angeles
BEGIN:VTIMEZONE
TZID:America/Los_Angeles
BEGIN:STANDARD
TZNAME:PST
DTSTART:20241103T020000
TZOFFSETFROM:-0700
TZOFFSETTO:-0800
RDATE:20251102T020000
RDATE:20261101T020000
END:STANDARD
BEGIN:DAYLIGHT
TZNAME:PDT
DTSTART:20250309T020000
TZOFFSETFROM:-0800
TZOFFSETTO:-0700
RDATE:20260308T020000
END:DAYLIGHT
END:VTIMEZONE
BEGIN:VEVENT
UID:9744ea96-a748-4320-97b8-3b0c25c5de5f
DTSTAMP:20260419T170411Z
DESCRIPTION:KEEP support groups provide a welcome place to share experience
 s\, get tips and strategies\, and most importantly the support that is cri
 tical in this frequently stressful role.
DTSTART;TZID=America/Los_Angeles:20250512T180000
DTEND;TZID=America/Los_Angeles:20250512T193000
LOCATION:Held on Zoom
SUMMARY:KEEP Toddler
END:VEVENT
END:VCALENDAR
