BEGIN:VCALENDAR
VERSION:2.0
PRODID:-//frconline.org//NONSGML kigkonsult.se iCalcreator 2.30.10//
CALSCALE:GREGORIAN
METHOD:PUBLISH
UID:630cec79-ab0b-45e4-9b37-6514452264ca
X-WR-CALDESC:Increase cooperation\nResist negative peer pressure\nHelp chil
 dren thrive
X-WR-RELCALID:ec20df672180e81f9a8fdc50914bcc4b
X-WR-TIMEZONE:America/Los_Angeles
BEGIN:VTIMEZONE
TZID:America/Los_Angeles
BEGIN:STANDARD
TZNAME:PST
DTSTART:20241103T020000
TZOFFSETFROM:-0700
TZOFFSETTO:-0800
RDATE:20251102T020000
RDATE:20261101T020000
END:STANDARD
BEGIN:DAYLIGHT
TZNAME:PDT
DTSTART:20250309T020000
TZOFFSETFROM:-0800
TZOFFSETTO:-0700
RDATE:20260308T020000
END:DAYLIGHT
END:VTIMEZONE
BEGIN:VEVENT
UID:cb97cc3b-b4f6-4e81-a750-11c2c24c3a1f
DTSTAMP:20260419T170354Z
DESCRIPTION:Increase cooperation\nResist negative peer pressure\nHelp child
 ren thrive
DTSTART;TZID=America/Los_Angeles:20250512T180000
DTEND;TZID=America/Los_Angeles:20250512T200000
LOCATION:Held on Zoom
SUMMARY:Active Parenting
END:VEVENT
END:VCALENDAR
