BEGIN:VCALENDAR
VERSION:2.0
PRODID:-//frconline.org//NONSGML kigkonsult.se iCalcreator 2.30.10//
CALSCALE:GREGORIAN
METHOD:PUBLISH
UID:380a67d1-3381-43a2-ac18-0bb056a4dbf9
X-WR-CALDESC:Parent Cafes are a unique fun way to share the challenges and 
 rewards that come with parenting in small group conversations.
X-WR-RELCALID:c2bc27b693a0aac1db76cfb361615a05
X-WR-TIMEZONE:America/Los_Angeles
BEGIN:VTIMEZONE
TZID:America/Los_Angeles
BEGIN:STANDARD
TZNAME:PST
DTSTART:20241103T020000
TZOFFSETFROM:-0700
TZOFFSETTO:-0800
RDATE:20251102T020000
END:STANDARD
BEGIN:DAYLIGHT
TZNAME:PDT
DTSTART:20250309T020000
TZOFFSETFROM:-0800
TZOFFSETTO:-0700
RDATE:20260308T020000
END:DAYLIGHT
END:VTIMEZONE
BEGIN:VEVENT
UID:85633cdd-0067-454d-a0d6-fc9f5f61101a
DTSTAMP:20260419T182903Z
DESCRIPTION:Parent Cafes are a unique fun way to share the challenges and r
 ewards that come with parenting in small group conversations.
DTSTART;TZID=America/Los_Angeles:20250424T180000
DTEND;TZID=America/Los_Angeles:20250424T200000
LOCATION:Rosland Elementary School\, 52350 Yaeger Dr.  \, La Pine \, OR 977
 39 US
SUMMARY:Parent Café
END:VEVENT
END:VCALENDAR
