BEGIN:VCALENDAR
VERSION:2.0
PRODID:-//frconline.org//NONSGML kigkonsult.se iCalcreator 2.30.10//
CALSCALE:GREGORIAN
METHOD:PUBLISH
UID:cf63990d-8c9b-4b21-8525-22df9e743a2e
X-WR-CALDESC:Learn how to help your child feel safe\, regulate their emotio
 ns\, and build their self-esteem.
X-WR-RELCALID:caa1dc49f9a5bdea071bd433d56ad3bb
X-WR-TIMEZONE:America/Los_Angeles
BEGIN:VTIMEZONE
TZID:America/Los_Angeles
BEGIN:STANDARD
TZNAME:PST
DTSTART:20241103T020000
TZOFFSETFROM:-0700
TZOFFSETTO:-0800
RDATE:20251102T020000
END:STANDARD
BEGIN:DAYLIGHT
TZNAME:PDT
DTSTART:20250309T020000
TZOFFSETFROM:-0800
TZOFFSETTO:-0700
RDATE:20260308T020000
END:DAYLIGHT
END:VTIMEZONE
BEGIN:VEVENT
UID:1c94c229-9a25-4dab-b4c8-a92aa05cf749
DTSTAMP:20260419T182313Z
DESCRIPTION:Learn how to help your child feel safe\, regulate their emotion
 s\, and build their self-esteem.
DTSTART;TZID=America/Los_Angeles:20250416T120000
DTEND;TZID=America/Los_Angeles:20250416T133000
LOCATION:2500 NE Twin Knolls Dr\, Bend\, OR 97701 US
SUMMARY:Circle of Security
END:VEVENT
END:VCALENDAR
