BEGIN:VCALENDAR
VERSION:2.0
PRODID:-//frconline.org//NONSGML kigkonsult.se iCalcreator 2.30.10//
CALSCALE:GREGORIAN
METHOD:PUBLISH
UID:13cc1a8a-6cef-4501-9de2-3da3424d1c84
X-WR-CALDESC:Understand how brain development impacts teen behavior and dec
 ision-making! Improve communication\, talk about technology and social med
 ia\, and more!
X-WR-RELCALID:d08e189b93884dd86783b3c04766ad07
X-WR-TIMEZONE:America/Los_Angeles
BEGIN:VTIMEZONE
TZID:America/Los_Angeles
BEGIN:STANDARD
TZNAME:PST
DTSTART:20241103T020000
TZOFFSETFROM:-0700
TZOFFSETTO:-0800
RDATE:20251102T020000
END:STANDARD
BEGIN:DAYLIGHT
TZNAME:PDT
DTSTART:20250309T020000
TZOFFSETFROM:-0800
TZOFFSETTO:-0700
RDATE:20260308T020000
END:DAYLIGHT
END:VTIMEZONE
BEGIN:VEVENT
UID:1d80eadf-b7cc-462d-8cba-65010949e2cc
DTSTAMP:20260419T185117Z
DESCRIPTION:Understand how brain development impacts teen behavior and deci
 sion-making! Improve communication\, talk about technology and social medi
 a\, and more!
DTSTART;TZID=America/Los_Angeles:20250416T120000
DTEND;TZID=America/Los_Angeles:20250416T130000
LOCATION:Held on Zoom
SUMMARY:Active Parenting of Teens Workshop
END:VEVENT
END:VCALENDAR
