BEGIN:VCALENDAR
VERSION:2.0
PRODID:-//frconline.org//NONSGML kigkonsult.se iCalcreator 2.30.10//
CALSCALE:GREGORIAN
METHOD:PUBLISH
UID:973ee5cf-db4d-4a34-a10a-4e574624213e
X-WR-CALDESC:Understand how brain development impacts teen behavior and dec
 ision-making! Improve communication\, talk about technology and social med
 ia\, and more!
X-WR-RELCALID:d7ad3856bb1410fee1dddef51e86ad2d
X-WR-TIMEZONE:America/Los_Angeles
BEGIN:VTIMEZONE
TZID:America/Los_Angeles
BEGIN:STANDARD
TZNAME:PST
DTSTART:20241103T020000
TZOFFSETFROM:-0700
TZOFFSETTO:-0800
RDATE:20251102T020000
END:STANDARD
BEGIN:DAYLIGHT
TZNAME:PDT
DTSTART:20240310T020000
TZOFFSETFROM:-0800
TZOFFSETTO:-0700
RDATE:20250309T020000
RDATE:20260308T020000
END:DAYLIGHT
END:VTIMEZONE
BEGIN:VEVENT
UID:3077466b-aaff-4c42-b520-402c60ce7781
DTSTAMP:20260419T221957Z
DESCRIPTION:Understand how brain development impacts teen behavior and deci
 sion-making! Improve communication\, talk about technology and social medi
 a\, and more!
DTSTART;TZID=America/Los_Angeles:20250220T180000
DTEND;TZID=America/Los_Angeles:20250220T200000
LOCATION:Held on Zoom
SUMMARY:Active Parenting of Teens
END:VEVENT
END:VCALENDAR
