BEGIN:VCALENDAR
VERSION:2.0
PRODID:-//frconline.org//NONSGML kigkonsult.se iCalcreator 2.30.10//
CALSCALE:GREGORIAN
METHOD:PUBLISH
UID:7176b5ea-8cbb-4ab7-a180-cf30ae243f3c
X-WR-CALDESC:Increase cooperation\nResist negative peer pressure\nHelp chil
 dren thrive
X-WR-RELCALID:48b3d7d0c32b5b52905693791cf0a2ca
X-WR-TIMEZONE:America/Los_Angeles
BEGIN:VTIMEZONE
TZID:America/Los_Angeles
BEGIN:STANDARD
TZNAME:PST
DTSTART:20241103T020000
TZOFFSETFROM:-0700
TZOFFSETTO:-0800
RDATE:20251102T020000
END:STANDARD
BEGIN:DAYLIGHT
TZNAME:PDT
DTSTART:20240310T020000
TZOFFSETFROM:-0800
TZOFFSETTO:-0700
RDATE:20250309T020000
RDATE:20260308T020000
END:DAYLIGHT
END:VTIMEZONE
BEGIN:VEVENT
UID:6cf3e061-b726-4767-a6b9-3864a9e6a8f5
DTSTAMP:20260419T221615Z
DESCRIPTION:Increase cooperation\nResist negative peer pressure\nHelp child
 ren thrive
DTSTART;TZID=America/Los_Angeles:20250219T173000
DTEND;TZID=America/Los_Angeles:20250219T193000
LOCATION:Family Resource Center\, 2500 NE Twin Knolls Dr\, Bend\, AL 97701 
 US
SUMMARY:Active Parenting
END:VEVENT
END:VCALENDAR
