BEGIN:VCALENDAR
VERSION:2.0
PRODID:-//frconline.org//NONSGML kigkonsult.se iCalcreator 2.30.10//
CALSCALE:GREGORIAN
METHOD:PUBLISH
UID:1ffa67a8-193b-4840-b8cf-9e91e392c8c2
X-WR-CALDESC:Zumbini is an early childhood program that uses music and move
 ment to promote cognitive\, social\, fine & gross motor skills\, and emoti
 onal development for children ages 0-4\, all while creating the ultimate b
 onding experience for you! Come experience the fun – no commitment necessa
 ry!
X-WR-RELCALID:2bb7197dcc8c273fc8e7aec6aa35a94b
X-WR-TIMEZONE:America/Los_Angeles
BEGIN:VTIMEZONE
TZID:America/Los_Angeles
BEGIN:STANDARD
TZNAME:PST
DTSTART:20241103T020000
TZOFFSETFROM:-0700
TZOFFSETTO:-0800
RDATE:20251102T020000
END:STANDARD
BEGIN:DAYLIGHT
TZNAME:PDT
DTSTART:20240310T020000
TZOFFSETFROM:-0800
TZOFFSETTO:-0700
RDATE:20250309T020000
RDATE:20260308T020000
END:DAYLIGHT
END:VTIMEZONE
BEGIN:VEVENT
UID:7f039d26-0ad3-4102-ae87-d7dcbc3de9f7
DTSTAMP:20260419T221856Z
DESCRIPTION:Zumbini is an early childhood program that uses music and movem
 ent to promote cognitive\, social\, fine & gross motor skills\, and emotio
 nal development for children ages 0-4\, all while creating the ultimate bo
 nding experience for you! Come experience the fun – no commitment necessar
 y!
DTSTART;TZID=America/Los_Angeles:20250207T100000
DTEND;TZID=America/Los_Angeles:20250207T104500
LOCATION:Family Resource Center\, 2500 NE Twin Knolls Dr\, Bend\, OR 97701 
 US
SUMMARY:Zumbini
END:VEVENT
END:VCALENDAR
