BEGIN:VCALENDAR
VERSION:2.0
PRODID:-//frconline.org//NONSGML kigkonsult.se iCalcreator 2.30.10//
CALSCALE:GREGORIAN
METHOD:PUBLISH
UID:70e8eda7-3e33-434a-8170-bd09b4c4697f
X-WR-CALDESC:Join us for a fun night of engaging activities. We’ll share a 
 meal together\, make musical instruments\, and then end with a dance party
 ! Come be silly with us as we connect with your littles and shake off some
  of the holiday.
X-WR-RELCALID:7d34e0861ec4421e0763cdb20da8f9a4
X-WR-TIMEZONE:America/Los_Angeles
BEGIN:VTIMEZONE
TZID:America/Los_Angeles
BEGIN:STANDARD
TZNAME:PST
DTSTART:20241103T020000
TZOFFSETFROM:-0700
TZOFFSETTO:-0800
RDATE:20251102T020000
END:STANDARD
BEGIN:DAYLIGHT
TZNAME:PDT
DTSTART:20240310T020000
TZOFFSETFROM:-0800
TZOFFSETTO:-0700
RDATE:20250309T020000
RDATE:20260308T020000
END:DAYLIGHT
END:VTIMEZONE
BEGIN:VEVENT
UID:d059bc0a-2bf3-43e6-91f1-0b09bbdcfe62
DTSTAMP:20260420T014033Z
DESCRIPTION:Join us for a fun night of engaging activities. We’ll share a m
 eal together\, make musical instruments\, and then end with a dance party!
  Come be silly with us as we connect with your littles and shake off some 
 of the holiday.
DTSTART;TZID=America/Los_Angeles:20241218T173000
DTEND;TZID=America/Los_Angeles:20241218T193000
LOCATION:2500 NE Twin Knolls Dr\, Bend\, OR 97701 US
SUMMARY:Family Night Music and Movement
END:VEVENT
END:VCALENDAR
