BEGIN:VCALENDAR
VERSION:2.0
PRODID:-//frconline.org//NONSGML kigkonsult.se iCalcreator 2.30.10//
CALSCALE:GREGORIAN
METHOD:PUBLISH
UID:d5b092df-39e6-4a27-b3be-ea1b11816c56
X-WR-CALDESC:Zumbini is an early childhood program that uses music and move
 ment to promote cognitive\, social\, fine & gross motor skills\, and emoti
 onal development for children ages 0-4\, all while creating the ultimate b
 onding experience for you! Come experience the fun – no commitment necessa
 ry!
X-WR-RELCALID:7478ab241132b2d459185efbb25d4ee5
X-WR-TIMEZONE:America/Los_Angeles
BEGIN:VTIMEZONE
TZID:America/Los_Angeles
BEGIN:STANDARD
TZNAME:PST
DTSTART:20241103T020000
TZOFFSETFROM:-0700
TZOFFSETTO:-0800
RDATE:20251102T020000
END:STANDARD
BEGIN:DAYLIGHT
TZNAME:PDT
DTSTART:20240310T020000
TZOFFSETFROM:-0800
TZOFFSETTO:-0700
RDATE:20250309T020000
RDATE:20260308T020000
END:DAYLIGHT
END:VTIMEZONE
BEGIN:VEVENT
UID:0c6b76af-ea87-4ea5-b22e-4e716101d71a
DTSTAMP:20260420T013816Z
DESCRIPTION:Zumbini is an early childhood program that uses music and movem
 ent to promote cognitive\, social\, fine & gross motor skills\, and emotio
 nal development for children ages 0-4\, all while creating the ultimate bo
 nding experience for you! Come experience the fun – no commitment necessar
 y!
DTSTART;TZID=America/Los_Angeles:20241213T100000
DTEND;TZID=America/Los_Angeles:20241213T104500
LOCATION:Family Resource Center\, 2500 NE Twin Knolls Dr\, Bend\, OR 97701 
 US
SUMMARY:Zumbini
END:VEVENT
END:VCALENDAR
