BEGIN:VCALENDAR
VERSION:2.0
PRODID:-//frconline.org//NONSGML kigkonsult.se iCalcreator 2.30.10//
CALSCALE:GREGORIAN
METHOD:PUBLISH
UID:61fa2ff5-6809-46a9-87d2-c0a4efc5e413
X-WR-CALDESC:Bring home your very own masterpiece and enjoy hor d'oeuvres\,
  drinks and friends on a fun night out at the Oxford. Proceeds benefit Fam
 ily Resource Center. Seats are limited. Follow the link to register.
X-WR-RELCALID:39a9d172ab773bb5bf38fe4e0f9f0a8e
X-WR-TIMEZONE:America/Los_Angeles
BEGIN:VTIMEZONE
TZID:America/Los_Angeles
BEGIN:STANDARD
TZNAME:PST
DTSTART:20241103T020000
TZOFFSETFROM:-0700
TZOFFSETTO:-0800
RDATE:20251102T020000
END:STANDARD
BEGIN:DAYLIGHT
TZNAME:PDT
DTSTART:20240310T020000
TZOFFSETFROM:-0800
TZOFFSETTO:-0700
RDATE:20250309T020000
RDATE:20260308T020000
END:DAYLIGHT
END:VTIMEZONE
BEGIN:VEVENT
UID:0f4cc3f7-1b3c-42d4-8896-df74194b52be
DTSTAMP:20260420T013938Z
DESCRIPTION:Bring home your very own masterpiece and enjoy hor d'oeuvres\, 
 drinks and friends on a fun night out at the Oxford. Proceeds benefit Fami
 ly Resource Center. Seats are limited. Follow the link to register.
DTSTART;TZID=America/Los_Angeles:20241205T180000
DTEND;TZID=America/Los_Angeles:20241205T210000
LOCATION:Oxford Hotel \, 10 nw minnesota ave\, Bend\, OR 97701 US
SUMMARY:Paint Night at the Oxford
END:VEVENT
END:VCALENDAR
