BEGIN:VCALENDAR
VERSION:2.0
PRODID:-//frconline.org//NONSGML kigkonsult.se iCalcreator 2.30.10//
CALSCALE:GREGORIAN
METHOD:PUBLISH
UID:73dfb853-4049-4b38-b23b-2dfc671ecc95
X-WR-CALDESC:Join us for a workshop all about self care\, support\, and ide
 as on managing stress over the holidays.
X-WR-RELCALID:d69002b7a2bddb84b6c0ef11212bfc0b
X-WR-TIMEZONE:America/Los_Angeles
BEGIN:VTIMEZONE
TZID:America/Los_Angeles
BEGIN:STANDARD
TZNAME:PST
DTSTART:20241103T020000
TZOFFSETFROM:-0700
TZOFFSETTO:-0800
RDATE:20251102T020000
END:STANDARD
BEGIN:DAYLIGHT
TZNAME:PDT
DTSTART:20240310T020000
TZOFFSETFROM:-0800
TZOFFSETTO:-0700
RDATE:20250309T020000
RDATE:20260308T020000
END:DAYLIGHT
END:VTIMEZONE
BEGIN:VEVENT
UID:c8d580f5-830d-44b0-9cc8-89ab507a25ff
DTSTAMP:20260420T034517Z
DESCRIPTION:Join us for a workshop all about self care\, support\, and idea
 s on managing stress over the holidays.
DTSTART;TZID=America/Los_Angeles:20241120T173000
DTEND;TZID=America/Los_Angeles:20241120T193000
LOCATION:2500 NE Twin Knolls Dr\, Suite 130\, Bend\, OR 97701 US
SUMMARY:Surviving the Season
END:VEVENT
END:VCALENDAR
