BEGIN:VCALENDAR
VERSION:2.0
PRODID:-//frconline.org//NONSGML kigkonsult.se iCalcreator 2.30.10//
CALSCALE:GREGORIAN
METHOD:PUBLISH
UID:93d24910-2989-42d9-b116-d0ce28a2be2a
X-WR-CALDESC:Keep Standard is for foster parents with children 4-12 years o
 ld.\nKEEP foster parent support groups provide foster parents a welcome pl
 ace to share experiences\, get tips and strategies\, and most importantly 
 the support that is critical in this frequently stressful role
X-WR-RELCALID:04ec4b37390302b8f67f992882c09336
X-WR-TIMEZONE:America/Los_Angeles
BEGIN:VTIMEZONE
TZID:America/Los_Angeles
BEGIN:STANDARD
TZNAME:PST
DTSTART:20241103T020000
TZOFFSETFROM:-0700
TZOFFSETTO:-0800
RDATE:20251102T020000
END:STANDARD
BEGIN:DAYLIGHT
TZNAME:PDT
DTSTART:20240310T020000
TZOFFSETFROM:-0800
TZOFFSETTO:-0700
RDATE:20250309T020000
RDATE:20260308T020000
END:DAYLIGHT
END:VTIMEZONE
BEGIN:VEVENT
UID:a192e53d-4c09-4e9d-a118-0f6be255f28d
DTSTAMP:20260420T032845Z
DESCRIPTION:Keep Standard is for foster parents with children 4-12 years ol
 d.\nKEEP foster parent support groups provide foster parents a welcome pla
 ce to share experiences\, get tips and strategies\, and most importantly t
 he support that is critical in this frequently stressful role
DTSTART;TZID=America/Los_Angeles:20241120T180000
DTEND;TZID=America/Los_Angeles:20241120T193000
LOCATION:Held on Zoom
SUMMARY:KEEP Standard
END:VEVENT
END:VCALENDAR
