BEGIN:VCALENDAR
VERSION:2.0
PRODID:-//frconline.org//NONSGML kigkonsult.se iCalcreator 2.30.10//
CALSCALE:GREGORIAN
METHOD:PUBLISH
UID:cd167899-fcb9-4d9d-8431-4524f8e71f10
X-WR-CALDESC:A SUPPORT group not a class!\nA group of 7-12 foster/kinship p
 arents and two trained group leaders\n16 weekly 90-minute sessions\nA time
  to connect with other foster parents and kinship families\nYou will recei
 ve a $25 check for each remote session attended per household\nYou can ear
 n up to 24 foster parent training hours toward DHS certification\nAll DHS-
 certified foster parents and kinship families can join!
X-WR-RELCALID:f0d7eea2f8ca9718c6821814d1d55aa3
X-WR-TIMEZONE:America/Los_Angeles
BEGIN:VTIMEZONE
TZID:America/Los_Angeles
BEGIN:STANDARD
TZNAME:PST
DTSTART:20241103T020000
TZOFFSETFROM:-0700
TZOFFSETTO:-0800
RDATE:20251102T020000
END:STANDARD
BEGIN:DAYLIGHT
TZNAME:PDT
DTSTART:20240310T020000
TZOFFSETFROM:-0800
TZOFFSETTO:-0700
RDATE:20250309T020000
RDATE:20260308T020000
END:DAYLIGHT
END:VTIMEZONE
BEGIN:VEVENT
UID:0c6b5404-69ec-4cc3-a490-06827f446a6c
DTSTAMP:20260420T032837Z
DESCRIPTION:A SUPPORT group not a class!\nA group of 7-12 foster/kinship pa
 rents and two trained group leaders\n16 weekly 90-minute sessions\nA time 
 to connect with other foster parents and kinship families\nYou will receiv
 e a $25 check for each remote session attended per household\nYou can earn
  up to 24 foster parent training hours toward DHS certification\nAll DHS-c
 ertified foster parents and kinship families can join!
DTSTART;TZID=America/Los_Angeles:20241118T180000
DTEND;TZID=America/Los_Angeles:20241118T193000
LOCATION:Class held on Zoom
SUMMARY:Keep Safe
END:VEVENT
END:VCALENDAR
