BEGIN:VCALENDAR
VERSION:2.0
PRODID:-//frconline.org//NONSGML kigkonsult.se iCalcreator 2.30.10//
CALSCALE:GREGORIAN
METHOD:PUBLISH
UID:59f4c4fd-2cb3-4f9b-81ee-a353f1ef8698
X-WR-CALDESC:Discover ways to manage stress. \n\nLearn about child developm
 ent. \n\nBuild your toolkit for positive discipline and so much more!
X-WR-RELCALID:47ac7b368a650473f8fa79c68bfb29ea
X-WR-TIMEZONE:America/Los_Angeles
BEGIN:VTIMEZONE
TZID:America/Los_Angeles
BEGIN:STANDARD
TZNAME:PST
DTSTART:20231105T020000
TZOFFSETFROM:-0700
TZOFFSETTO:-0800
RDATE:20241103T020000
RDATE:20251102T020000
END:STANDARD
BEGIN:DAYLIGHT
TZNAME:PDT
DTSTART:20240310T020000
TZOFFSETFROM:-0800
TZOFFSETTO:-0700
RDATE:20250309T020000
RDATE:20260308T020000
END:DAYLIGHT
END:VTIMEZONE
BEGIN:VEVENT
UID:3bbd3a55-5881-4f97-bfb3-87b0265266d9
DTSTAMP:20260420T052421Z
DESCRIPTION:Discover ways to manage stress. \n\nLearn about child developme
 nt. \n\nBuild your toolkit for positive discipline and so much more!
DTSTART;TZID=America/Los_Angeles:20241028T173000
DTEND;TZID=America/Los_Angeles:20241028T193000
LOCATION:OCDC\, 659 NE A St\, Madras\, OR 97741 US
SUMMARY:Make Parenting A Pleasure
END:VEVENT
END:VCALENDAR
