BEGIN:VCALENDAR
VERSION:2.0
PRODID:-//frconline.org//NONSGML kigkonsult.se iCalcreator 2.30.10//
CALSCALE:GREGORIAN
METHOD:PUBLISH
UID:ca04f691-4b67-4e93-adb0-2f564e6d88e7
X-WR-CALDESC:We invite all the families of Midtown Place Apartments to join
  us for a free\, family fun event. Dinner will be served along with crafts
  and games. Scam the QR code on the flyer to sign up. RSVP's that come in 
 by October 14th will be entered into a raffle for a prize!
X-WR-RELCALID:46c8aafb0cac3b6eeda2f0571f733c79
X-WR-TIMEZONE:America/Los_Angeles
BEGIN:VTIMEZONE
TZID:America/Los_Angeles
BEGIN:STANDARD
TZNAME:PST
DTSTART:20231105T020000
TZOFFSETFROM:-0700
TZOFFSETTO:-0800
RDATE:20241103T020000
RDATE:20251102T020000
END:STANDARD
BEGIN:DAYLIGHT
TZNAME:PDT
DTSTART:20240310T020000
TZOFFSETFROM:-0800
TZOFFSETTO:-0700
RDATE:20250309T020000
RDATE:20260308T020000
END:DAYLIGHT
END:VTIMEZONE
BEGIN:VEVENT
UID:da9493c2-af1d-4158-8a4d-26cb26421e91
DTSTAMP:20260420T053108Z
DESCRIPTION:We invite all the families of Midtown Place Apartments to join 
 us for a free\, family fun event. Dinner will be served along with crafts 
 and games. Scam the QR code on the flyer to sign up. RSVP's that come in b
 y October 14th will be entered into a raffle for a prize!
DTSTART;TZID=America/Los_Angeles:20241025T163000
DTEND;TZID=America/Los_Angeles:20241025T183000
LOCATION:Midtown Place Apartments Community Room
SUMMARY:Fall Family Harvest Party
END:VEVENT
END:VCALENDAR
