BEGIN:VCALENDAR
VERSION:2.0
PRODID:-//frconline.org//NONSGML kigkonsult.se iCalcreator 2.30.10//
CALSCALE:GREGORIAN
METHOD:PUBLISH
UID:0d295d87-b63e-4470-bd56-50cb74875332
X-WR-CALDESC:Central Oregon parents with school age  children from 5-12 yea
 rs old. Learn positive parenting strategies and parent with less stress an
 d more FUN!\n\nFulfills mandated client requirement.\n\nThis is an ongoing
  class\, meaning you can join at any session. After 12 consecutive session
 s\, you'll receive a certificate.\n\nCost: $Free\n\nCall to register & get
  started!
X-WR-RELCALID:31460e154ac2e77588e2df61e1693f34
X-WR-TIMEZONE:America/Los_Angeles
BEGIN:VTIMEZONE
TZID:America/Los_Angeles
BEGIN:STANDARD
TZNAME:PST
DTSTART:20231105T020000
TZOFFSETFROM:-0700
TZOFFSETTO:-0800
RDATE:20241103T020000
RDATE:20251102T020000
END:STANDARD
BEGIN:DAYLIGHT
TZNAME:PDT
DTSTART:20240310T020000
TZOFFSETFROM:-0800
TZOFFSETTO:-0700
RDATE:20250309T020000
RDATE:20260308T020000
END:DAYLIGHT
END:VTIMEZONE
BEGIN:VEVENT
UID:65284fe0-f93b-4c83-860b-70eb42cb8f34
DTSTAMP:20260420T052227Z
DESCRIPTION:Central Oregon parents with school age  children from 5-12 year
 s old. Learn positive parenting strategies and parent with less stress and
  more FUN!\n\nFulfills mandated client requirement.\n\nThis is an ongoing 
 class\, meaning you can join at any session. After 12 consecutive sessions
 \, you'll receive a certificate.\n\nCost: $Free\n\nCall to register & get 
 started!
DTSTART;TZID=America/Los_Angeles:20241015T173000
DTEND;TZID=America/Los_Angeles:20241015T190000
LOCATION:
SUMMARY:Nurturing Parenting
END:VEVENT
END:VCALENDAR
