BEGIN:VCALENDAR
VERSION:2.0
PRODID:-//frconline.org//NONSGML kigkonsult.se iCalcreator 2.30.10//
CALSCALE:GREGORIAN
METHOD:PUBLISH
UID:4e1cfc12-36de-4f52-811a-e29d155a7a6b
X-WR-CALDESC:We invite all students and their families of Powell Butte Comm
 unity Charter School to join us for a night of fun\, land centered activit
 ies. Dinner will be served. Scan the QR to RSVP today!
X-WR-RELCALID:652f544d6a10fe8fce01d48b319bdf0b
X-WR-TIMEZONE:America/Los_Angeles
BEGIN:VTIMEZONE
TZID:America/Los_Angeles
BEGIN:STANDARD
TZNAME:PST
DTSTART:20231105T020000
TZOFFSETFROM:-0700
TZOFFSETTO:-0800
RDATE:20241103T020000
RDATE:20251102T020000
END:STANDARD
BEGIN:DAYLIGHT
TZNAME:PDT
DTSTART:20240310T020000
TZOFFSETFROM:-0800
TZOFFSETTO:-0700
RDATE:20250309T020000
RDATE:20260308T020000
END:DAYLIGHT
END:VTIMEZONE
BEGIN:VEVENT
UID:900fe00b-3a14-43b8-a806-3cc65a4ec366
DTSTAMP:20260420T052711Z
DESCRIPTION:We invite all students and their families of Powell Butte Commu
 nity Charter School to join us for a night of fun\, land centered activiti
 es. Dinner will be served. Scan the QR to RSVP today!
DTSTART;TZID=America/Los_Angeles:20241004T173000
DTEND;TZID=America/Los_Angeles:20241004T190000
LOCATION:Powell Butte Community Charter School\, 13650 SW Hwy 126 \, Powell
  Butte\, OR 97753 US
SUMMARY:Lay of the Land Family Night
END:VEVENT
END:VCALENDAR
