BEGIN:VCALENDAR
VERSION:2.0
PRODID:-//frconline.org//NONSGML kigkonsult.se iCalcreator 2.30.10//
CALSCALE:GREGORIAN
METHOD:PUBLISH
UID:76cbecc9-6ca9-4770-ad8c-84dc93f24360
X-WR-CALDESC:Central Oregon parents with children from birth through presch
 ool. Learn positive parenting strategies and parent with less stress and m
 ore FUN!\n\nFulfills mandated client requirement.\n\nThis is an ongoing cl
 ass\, meaning you can join at any session. After 12 consecutive sessions\,
  you'll receive a certificate.\n\nCost: $Free\n\nCall to register & get st
 arted!
X-WR-RELCALID:9bc649f0a2bcd8d28e70fa15f3891632
X-WR-TIMEZONE:America/Los_Angeles
BEGIN:VTIMEZONE
TZID:America/Los_Angeles
BEGIN:STANDARD
TZNAME:PST
DTSTART:20231105T020000
TZOFFSETFROM:-0700
TZOFFSETTO:-0800
RDATE:20241103T020000
RDATE:20251102T020000
END:STANDARD
BEGIN:DAYLIGHT
TZNAME:PDT
DTSTART:20240310T020000
TZOFFSETFROM:-0800
TZOFFSETTO:-0700
RDATE:20250309T020000
RDATE:20260308T020000
END:DAYLIGHT
END:VTIMEZONE
BEGIN:VEVENT
UID:9695fd39-6388-4759-9306-4a770784997e
DTSTAMP:20260420T064927Z
DESCRIPTION:Central Oregon parents with children from birth through prescho
 ol. Learn positive parenting strategies and parent with less stress and mo
 re FUN!\n\nFulfills mandated client requirement.\n\nThis is an ongoing cla
 ss\, meaning you can join at any session. After 12 consecutive sessions\, 
 you'll receive a certificate.\n\nCost: $Free\n\nCall to register & get sta
 rted!
DTSTART;TZID=America/Los_Angeles:20240925T100000
DTEND;TZID=America/Los_Angeles:20240925T113000
LOCATION:Via Zoom
SUMMARY:Nurturing the Early Years
END:VEVENT
END:VCALENDAR
